BEGIN:VCALENDAR
METHOD:PUBLISH
PRODID:-//www.admidio.org//Admidio2.4.4//DE
VERSION:2.0
X-WR-TIMEZONE:Europe/Berlin
BEGIN:VTIMEZONE
TZID:Europe/Berlin
X-LIC-LOCATION:Europe/Berlin
BEGIN:STANDARD
DTSTART:19701025T030000
TZOFFSETFROM:+0200
TZOFFSETTO:+0100
TZNAME:CET
RRULE:FREQ=YEARLY;BYDAY=-1SU;BYMONTH=10
END:STANDARD
BEGIN:DAYLIGHT
DTSTART:19700329T020000
TZOFFSETFROM:+0100
TZOFFSETTO:+0200
TZNAME:CEST
RRULE:FREQ=YEARLY;BYDAY=-1SU;BYMONTH=3
END:DAYLIGHT
END:VTIMEZONE
BEGIN:VEVENT
CREATED:20190914T080945
UID:190914CEST080945+19@intern.ubvogt.de
SUMMARY:UB-Wanderung
DESCRIPTION:https://ubvogt.de/doku.php/archiv/berichte/wanderung_okt_2019
DTSTAMP:20260419T152644
LOCATION:Steibis
DTSTART;TZID=Europe/Berlin:20191020T093000
DTEND;TZID=Europe/Berlin:20191020T190000
END:VEVENT
END:VCALENDAR