BEGIN:VCALENDAR
METHOD:PUBLISH
PRODID:-//www.admidio.org//Admidio2.4.4//DE
VERSION:2.0
X-WR-TIMEZONE:Europe/Berlin
BEGIN:VTIMEZONE
TZID:Europe/Berlin
X-LIC-LOCATION:Europe/Berlin
BEGIN:STANDARD
DTSTART:19701025T030000
TZOFFSETFROM:+0200
TZOFFSETTO:+0100
TZNAME:CET
RRULE:FREQ=YEARLY;BYDAY=-1SU;BYMONTH=10
END:STANDARD
BEGIN:DAYLIGHT
DTSTART:19700329T020000
TZOFFSETFROM:+0100
TZOFFSETTO:+0200
TZNAME:CEST
RRULE:FREQ=YEARLY;BYDAY=-1SU;BYMONTH=3
END:DAYLIGHT
END:VTIMEZONE
BEGIN:VEVENT
CREATED:20230222T092900
UID:230222CET092900+19@intern.ubvogt.de
SUMMARY:Mitgliederversammlung 2023
DESCRIPTION:Liebe UB-Mitglieder, liebe UB-Freunde	Die nächste ordentliche Mitgliederversammlung der „Unabhängigen Bürger Vogt e.V.“ findet am Freitag, 17. März 2023 im Gasthof Paradies um 20.00 Uhr statt.	Viele Grüße	Vorstand UB-Vogt
DTSTAMP:20260419T152644
LOCATION:Paradies Vogt
DTSTART;TZID=Europe/Berlin:20230317T200000
DTEND;TZID=Europe/Berlin:20230317T220000
END:VEVENT
END:VCALENDAR