BEGIN:VCALENDAR
METHOD:PUBLISH
PRODID:-//www.admidio.org//Admidio2.4.4//DE
VERSION:2.0
X-WR-TIMEZONE:Europe/Berlin
BEGIN:VTIMEZONE
TZID:Europe/Berlin
X-LIC-LOCATION:Europe/Berlin
BEGIN:STANDARD
DTSTART:19701025T030000
TZOFFSETFROM:+0200
TZOFFSETTO:+0100
TZNAME:CET
RRULE:FREQ=YEARLY;BYDAY=-1SU;BYMONTH=10
END:STANDARD
BEGIN:DAYLIGHT
DTSTART:19700329T020000
TZOFFSETFROM:+0100
TZOFFSETTO:+0200
TZNAME:CEST
RRULE:FREQ=YEARLY;BYDAY=-1SU;BYMONTH=3
END:DAYLIGHT
END:VTIMEZONE
BEGIN:VEVENT
CREATED:20231121T195229
UID:231121CET075229+19@intern.ubvogt.de
SUMMARY:UB-Mitgliederversammlung
DESCRIPTION:Liebe UB Mitglieder, liebe UB-Freunde,	wie bereits im Mitteilungsblatt Nr. 45 vom 9. November 2023 der Gemeinde Vogt veröffentlicht, möchte ich an dieser Stelle noch einmal daran erinnern, dass am Mittwoch, 29.11.2023 im Gasthof Paradies um 20.00 Uhr die nächste ordentliche Mitgliederversammlung der „Unabhängigen Bürger Vogt e.V.“ stattfindet.	Folgende Tagesordnung ist vorgesehen:			Eröffnung und Begrüßung			Feststellung der Beschlussfähigkeit	Zur Wahl der Bewerber für die Kommunalwahl am 09.06.2024			Erste Vorstellung des Wahlprogramms und der Werbematerialien			Wahl eines Versammlungsleiters und eines Schriftführers			Wahl von 2 Versammlungsteilnehmern zur Unterzeichnung der Niederschrift			Wahl der Bewerber für die Kommunalwahl am 09.06.2024			Festlegung der Kandidatenreihenfolge auf der Wahlliste			Verschiedenes	Weitere Anträge zur Tagesordnung sollten bis 1 Woche vor Versammlungsbeginn schriftlich oder per Email beim Vorstand eingehen	 	Ich freue mich auf rege Teilnahme	 	Viele Grüße	i.A. des 1. Vorsitzender UB Vogt e.V. Christian Uelk		​Andreas Reichel	 
DTSTAMP:20260419T152637
LOCATION:Paradies Vogt
DTSTART;TZID=Europe/Berlin:20231129T200000
DTEND;TZID=Europe/Berlin:20231129T220000
END:VEVENT
END:VCALENDAR